BEGIN:VCALENDAR
VERSION:2.0
PRODID:-//Mahone Bay Quilters' Guild - ECPv6.15.20//NONSGML v1.0//EN
CALSCALE:GREGORIAN
METHOD:PUBLISH
X-WR-CALNAME:Mahone Bay Quilters' Guild
X-ORIGINAL-URL:https://mahonebayquiltersguild.com
X-WR-CALDESC:Events for Mahone Bay Quilters' Guild
REFRESH-INTERVAL;VALUE=DURATION:PT1H
X-Robots-Tag:noindex
X-PUBLISHED-TTL:PT1H
BEGIN:VTIMEZONE
TZID:America/Halifax
BEGIN:DAYLIGHT
TZOFFSETFROM:-0400
TZOFFSETTO:-0300
TZNAME:ADT
DTSTART:20250309T060000
END:DAYLIGHT
BEGIN:STANDARD
TZOFFSETFROM:-0300
TZOFFSETTO:-0400
TZNAME:AST
DTSTART:20251102T050000
END:STANDARD
BEGIN:DAYLIGHT
TZOFFSETFROM:-0400
TZOFFSETTO:-0300
TZNAME:ADT
DTSTART:20260308T060000
END:DAYLIGHT
BEGIN:STANDARD
TZOFFSETFROM:-0300
TZOFFSETTO:-0400
TZNAME:AST
DTSTART:20261101T050000
END:STANDARD
BEGIN:DAYLIGHT
TZOFFSETFROM:-0400
TZOFFSETTO:-0300
TZNAME:ADT
DTSTART:20270314T060000
END:DAYLIGHT
BEGIN:STANDARD
TZOFFSETFROM:-0300
TZOFFSETTO:-0400
TZNAME:AST
DTSTART:20271107T050000
END:STANDARD
END:VTIMEZONE
BEGIN:VEVENT
DTSTART;TZID=America/Halifax:20260422T130000
DTEND;TZID=America/Halifax:20260422T150000
DTSTAMP:20260422T065812
CREATED:20241112T150306Z
LAST-MODIFIED:20241112T150428Z
UID:10001315-1776862800-1776870000@mahonebayquiltersguild.com
SUMMARY:Sew Zoom
DESCRIPTION:Every Wednesday on Zoom we have some virtual sewing time together!
URL:https://mahonebayquiltersguild.com/event/sew-zoom-11/2026-04-22/
LOCATION:Sew Zoom Link\, https://us06web.zoom.us/j/89414394950?pwd=kdFGk6lI4oRZCb6c4TAfmkx3LNnRDN.1
CATEGORIES:Event on Zoom
END:VEVENT
END:VCALENDAR